BEGIN:VCALENDAR
VERSION:2.0
PRODID:-//hacksw/handcal//NONSGML v1.0//EN
BEGIN:VEVENT
SUMMARY:Sortie longue formation du 11 au 18 avril 2026
UID:d2d43f7d-a794-419c-93af-50ad0d8b1293
DTSTART:20260410T220000Z
DTEND:20260418T220000Z
LOCATION:Localisation port  argeles
CATEGORIES:Sportif
STATUS:
DESCRIPTION:<p>Sortie longue dediee a la formation au depart de la
 cote du Roussillon</p>
URL;VALUE=URI:https://www.dynamiquevoile.org/evenements/2026/04/11/sortie-longue-formation-du-11-au-18-avril-2026-2420994
END:VEVENT
END:VCALENDAR
